BEGIN:VCALENDAR
VERSION:2.0
PRODID:-//SUSA - ECPv6.9.0//NONSGML v1.0//EN
CALSCALE:GREGORIAN
METHOD:PUBLISH
X-WR-CALNAME:SUSA
X-ORIGINAL-URL:https://susa.nu
X-WR-CALDESC:Events for SUSA
REFRESH-INTERVAL;VALUE=DURATION:PT1H
X-Robots-Tag:noindex
X-PUBLISHED-TTL:PT1H
BEGIN:VTIMEZONE
TZID:Europe/Helsinki
BEGIN:DAYLIGHT
TZOFFSETFROM:+0200
TZOFFSETTO:+0300
TZNAME:EEST
DTSTART:20230326T010000
END:DAYLIGHT
BEGIN:STANDARD
TZOFFSETFROM:+0300
TZOFFSETTO:+0200
TZNAME:EET
DTSTART:20231029T010000
END:STANDARD
BEGIN:DAYLIGHT
TZOFFSETFROM:+0200
TZOFFSETTO:+0300
TZNAME:EEST
DTSTART:20240331T010000
END:DAYLIGHT
BEGIN:STANDARD
TZOFFSETFROM:+0300
TZOFFSETTO:+0200
TZNAME:EET
DTSTART:20241027T010000
END:STANDARD
BEGIN:DAYLIGHT
TZOFFSETFROM:+0200
TZOFFSETTO:+0300
TZNAME:EEST
DTSTART:20250330T010000
END:DAYLIGHT
BEGIN:STANDARD
TZOFFSETFROM:+0300
TZOFFSETTO:+0200
TZNAME:EET
DTSTART:20251026T010000
END:STANDARD
BEGIN:DAYLIGHT
TZOFFSETFROM:+0200
TZOFFSETTO:+0300
TZNAME:EEST
DTSTART:20260329T010000
END:DAYLIGHT
BEGIN:STANDARD
TZOFFSETFROM:+0300
TZOFFSETTO:+0200
TZNAME:EET
DTSTART:20261025T010000
END:STANDARD
END:VTIMEZONE
BEGIN:VEVENT
DTSTART;TZID=Europe/Helsinki:20260325T130000
DTEND;TZID=Europe/Helsinki:20260325T170000
DTSTAMP:20260420T130658
CREATED:20260109T215015Z
LAST-MODIFIED:20260109T220104Z
UID:2556-1774443600-1774458000@susa.nu
SUMMARY:Medlemsträff och erfarenhetsutbyte
DESCRIPTION:SUSA bjuder in sina medlemmar till kunskaps- och erfarenhetsutbyte den 25 mars 2026 \nVad bidrar vi till?\n\nVi skapar\, med gemensam kraft\, verktyg i form av standarder som bidrar till ett systematiskt förbättringsarbete inom miljö\, kvalitet och hållbarhet\nAtt stora och små\, privata och offentliga organisationer delar erfarenheter och kunskaper om hållbar utveckling\nKvalitetssäkrade standarder för SME\, som verifierar deras förbättringsarbete.\nStandarderna omfattar även de som stöttar organisationerna att systematisera sitt arbete – Utfärdarna – \, så väl som revisorerna vilket bidrar till bredd i kvalitetssäkringen. Det minskar riskerna för de organisationer som certifieras.
URL:https://susa.nu/event/medlemstraff-och-erfarenhetsutbyte/
LOCATION:Stockholm
CATEGORIES:Medlemsträffar
ATTACH;FMTTYPE=image/jpeg:https://susa.nu/wp-content/uploads/2026/01/IMG_4414.jpg
ORGANIZER;CN="SUSA":MAILTO:annika.johansson@tastegen.se
END:VEVENT
BEGIN:VEVENT
DTSTART;TZID=Europe/Helsinki:20260325T100000
DTEND;TZID=Europe/Helsinki:20260325T120000
DTSTAMP:20260420T130658
CREATED:20260109T214435Z
LAST-MODIFIED:20260109T214435Z
UID:2553-1774432800-1774440000@susa.nu
SUMMARY:Årsmöte 2026
DESCRIPTION:SUSA bjuder in till årsmöte den 25 mars 2026 \nTid: 10.00-12.00\nPlats: Stockholm \nAnmälan. annika.johansson(a)tastegen.se
URL:https://susa.nu/event/arsmote-2026/
LOCATION:Stockholm
CATEGORIES:Medlemsträffar
ATTACH;FMTTYPE=image/png:https://susa.nu/wp-content/uploads/2025/03/SUSA-KML.png
ORGANIZER;CN="SUSA":MAILTO:annika.johansson@tastegen.se
END:VEVENT
BEGIN:VEVENT
DTSTART;TZID=Europe/Helsinki:20260216T130000
DTEND;TZID=Europe/Helsinki:20260216T160000
DTSTAMP:20260420T130658
CREATED:20251130T182409Z
LAST-MODIFIED:20251130T182409Z
UID:2356-1771246800-1771257600@susa.nu
SUMMARY:Erfarenhetsutbyte/utbildning för revisorer - Hållbarhetsanpassat event
DESCRIPTION:Välkommen på erfarenhetsutbyte och utbildning i hållbarhetsanpassat event för nya och gamla revisorer. Utbildningen sker digitalt via Teams. \nTid: 16/2 kl 13.00-16.00 \nAnmälan via E-post: annika.johansson@tastegen.se
URL:https://susa.nu/event/erfarenhetsutbyte-utbildning-for-revisorer-hallbarhetsanpassat-event-2/
LOCATION:Digitalt
CATEGORIES:Revisorer
END:VEVENT
BEGIN:VEVENT
DTSTART;TZID=Europe/Helsinki:20260129T090000
DTEND;TZID=Europe/Helsinki:20260129T100000
DTSTAMP:20260420T130658
CREATED:20250924T141856Z
LAST-MODIFIED:20251024T121848Z
UID:2313-1769677200-1769680800@susa.nu
SUMMARY:Webbinar: SUSA:s uppdaterade Standarder Svensk Miljöbas och Kvalitetsbas
DESCRIPTION:Välkommen på webbinar om SUSA:s uppdaterade ledningssystemstandarder Svensk Miljöbas och Svensk Kvalitetsbas som började gälla den 1 januari 2026. \nKortfattat så har standarderna justerats och utvecklats för att möta upphandlare och andra intressenters krav och förväntningar på transparens\, värdekedjeperspektiv och kommunikation.\nDe ändrade kraven handlar om tydligare krav på analys av risker\, möjligheter och aspekter kopplade till:\n✔️ värdekedja\,\n✔️ intressenter och omvärldens krav\,\n✔️ klimatförändringar och hela organisationens arbete. \nDe handlar även om kommunikation som till exempel att:\n✔️ intressenterna ska ha möjlighet att kommunicera oegentligheter \n\nStandarderna ligger publika på vår hemsida: https://susa.nu/vara-standarder-och-metoder/ \, där nuvarande standarder ligger högst upp och de som börjar gälla 1 januari 2026\, lite längre ned.\nDe nya standarderna inkluderar ökade krav avseende värdekedja\, kontroll på leverantörsled och möjlighet till att rapportera oegentligheter etc.\nNi kan även se vilka verksamheter som innehar giltiga certifikat på: https://susa.positiongreen.com/\nVi har också standarder för utfärdare av certifikat och de oberoende revisorerna.
URL:https://susa.nu/event/webbinar-susas-uppdaterade-standarder-svensk-miljobas-och-kvalitetsbas/
LOCATION:Digitalt
CATEGORIES:Webbinar
ORGANIZER;CN="SUSA":MAILTO:annika.johansson@tastegen.se
END:VEVENT
BEGIN:VEVENT
DTSTART;TZID=Europe/Helsinki:20260115T130000
DTEND;TZID=Europe/Helsinki:20260115T160000
DTSTAMP:20260420T130658
CREATED:20251127T151851Z
LAST-MODIFIED:20251218T145537Z
UID:2348-1768482000-1768492800@susa.nu
SUMMARY:Erfarenhetsutbyte/utbildning för redan godkända revisorer - Miljöbas\, Kvalitetsbas och Systematiskt Hållbarhetsarbete\, Tema: Risker & Möjligheter
DESCRIPTION:Erfarenhetsutbyte och vidareutbildning\, för redan godkända revisorer enligt kravstandarderna Svensk Miljöbas\, Svensk Kvalitetsbas och Systematiskt hållberhetsarbete. \nTema: Risker och möjligheter ur olika perspektiv. Övning av handlingsplaner. \n15 januari 2026\, 13.00-16.00 \nAnmäl er till: hanna.norrman(a)seeu.se
URL:https://susa.nu/event/erfarenhetsutbyte-utbildning-for-redan-godkanda-revisorer-miljobas-och-kvalitetsbas-tema-meddelas-inom-kort/
LOCATION:Digitalt
CATEGORIES:Revisorer
END:VEVENT
BEGIN:VEVENT
DTSTART;TZID=Europe/Helsinki:20251211T130000
DTEND;TZID=Europe/Helsinki:20251211T160000
DTSTAMP:20260420T130658
CREATED:20250828T142037Z
LAST-MODIFIED:20250828T142502Z
UID:2306-1765458000-1765468800@susa.nu
SUMMARY:Erfarenhetsutbyte för redan godkända revisorer revisorer\, Tema: Nya standarder
DESCRIPTION:Erfarenhetsutbyte och vidareutbildning\, för redan godkända revisorer i Svensk Miljöbas och Svensk Kvalitetsbas kravstandarder. \nTema: Svensk Miljöbas och Svensk Kvalitetsbas nya och ändrade krav \nPå årsmötet våren 2025 antog SUSA uppdaterade kravstandarder\, förändringarna är i korthet:\nDe ändrade kraven handlar om tydligare krav på analys av risker\, möjligheter och aspekter kopplade till:\n✔️ värdekedja\,\n✔️ intressenter och omvärldens krav\,\n✔️ klimatförändringar och hela organisationens arbete. \nDe handlar även om kommunikation som till exempel att :\n✔️ intressenterna ska ha möjlighet att kommunicera oegentligheter \nAnmäl er till Annika Johansson: annika.johansson(a)tastegen.se
URL:https://susa.nu/event/erfarenhetsutbyte-for-redan-godkanda-revisorer-revisorer-tema-nya-standarder/
LOCATION:Digitalt
ORGANIZER;CN="SUSA":MAILTO:annika.johansson@tastegen.se
END:VEVENT
BEGIN:VEVENT
DTSTART;TZID=Europe/Helsinki:20251021T100000
DTEND;TZID=Europe/Helsinki:20251021T170000
DTSTAMP:20260420T130658
CREATED:20240925T122812Z
LAST-MODIFIED:20250828T140346Z
UID:1995-1761040800-1761066000@susa.nu
SUMMARY:Erfarenhetsutbyte/ utbildning för nya revisorer – Svensk Miljöbas och Svensk Kvalitetsbas
DESCRIPTION:Utbildningen riktar sig till dig som:\n\nvill bli godkänd revisor enligt Svensk Miljöbas och/eller Svensk Kvalitetsbas kravstandarder\n\nUtbildningen sker gemensamt för nya revisorer i någon av standarderna\, gruppen delas upp när specifika frågor gällande respektive standard är aktuell. \nInnehåll: \n\nFörväntningar på dagen\nBakgrund\nRevisorernas erfarenheter\nRoller och ansvar\nAtt revidera för Svensk Miljöbas & Svensk Kvalitetsbas\n– revisorns roll\n– tolkning av kraven och workshop\nUtvärdering\n\nPris: Länk till sida för revisorer \nAnmälan och avanmälan senast 10 dagar innan utbildningsstart. \nE-post: annika.johansson(a)tastegen.se \nPlats: Stockholm
URL:https://susa.nu/event/erfarenhetsutbyte-utbildning-for-nya-revisorer-svensk-miljobas-och-svensk-kvalitetsbas-2/
LOCATION:Stockholm
CATEGORIES:Revisorer
ORGANIZER;CN="SUSA":MAILTO:annika.johansson@tastegen.se
END:VEVENT
BEGIN:VEVENT
DTSTART;TZID=Europe/Helsinki:20251016T130000
DTEND;TZID=Europe/Helsinki:20251016T160000
DTSTAMP:20260420T130658
CREATED:20240925T122426Z
LAST-MODIFIED:20251008T150828Z
UID:1993-1760619600-1760630400@susa.nu
SUMMARY:Erfarenhetsutbyte/utbildning för redan godkända revisorer - Miljöbas och Kvalitetsbas\, Tema: Ständig förbättring - utmaningar\, resultat och effekt av systemet\,
DESCRIPTION:Erfarenhetsutbyte och vidareutbildning\, för redan godkända revisorer i Svensk Miljöbas och Svensk Kvalitetsbas kravstandarder. \nTema: Ständig förbättring – utmaningar\, resultat och effekt av systemet\,  \n16. oktober kl. 13.00-16.00 \nAnmäl er till: kristian.hellstrom(a)orebro.se eller genom att tacka ja i kalenderinbjudan
URL:https://susa.nu/event/erfarenhetsutbyte-utbildning-for-redan-godkanda-revisorer-miljobas-och-kvalitetsbas-tema-standig-forbattring-utmaningar-resultat-och-effekt-av-systemet/
LOCATION:Digitalt
CATEGORIES:Revisorer
ORGANIZER;CN="SUSA":MAILTO:annika.johansson@tastegen.se
END:VEVENT
BEGIN:VEVENT
DTSTART;TZID=Europe/Helsinki:20250408T130000
DTEND;TZID=Europe/Helsinki:20250409T170000
DTSTAMP:20260420T130658
CREATED:20241004T075254Z
LAST-MODIFIED:20241004T075254Z
UID:2006-1744117200-1744218000@susa.nu
SUMMARY:Revisorsutbildning - för nya revisorer i Standard för systematiskt hållbarhetsarbete
DESCRIPTION:Utbildningen riktar sig till dig som:\n\nvill bli godkänd revisor enligt SUSA:s standard för systematiskt hållbarhetsarbete\n\nUtbildningen är 1\,5 dagar\, där dag 1 sker via Teams och dag 2 sker live på plats. \nInnehåll: \n\nFörväntningar på utbildningen\nBakgrund\nRevisorernas erfarenheter\nRoller och ansvar\nHållbar utveckling – och de tre perspektiven i verksamheter\nAtt revidera för Systematiskt hållbarhetsarbete\n– revisorns roll\n– tolkning av kraven och workshop\nUtvärdering\n\nPris: Länk till sida för revisorer \nAnmälan och avanmälan senast 10 dagar innan utbildningsstart. \nE-post: annika.johansson(a)tastegen.se
URL:https://susa.nu/event/revisorsutbildning-for-nya-revisorer-i-standard-for-systematiskt-hallbarhetsarbete/
LOCATION:Stockholm
ORGANIZER;CN="SUSA":MAILTO:annika.johansson@tastegen.se
END:VEVENT
BEGIN:VEVENT
DTSTART;TZID=Europe/Helsinki:20250327T093000
DTEND;TZID=Europe/Helsinki:20250327T170000
DTSTAMP:20260420T130658
CREATED:20250305T141629Z
LAST-MODIFIED:20250305T141740Z
UID:2182-1743067800-1743094800@susa.nu
SUMMARY:Årsmöte och medlemsmöte den 27 mars
DESCRIPTION:SUSA bjuder in sina medlemmar till årsmöte med efterföljande medlemsmöte den 27 mars 2024. \nPreliminärt schema:\n9.30-10.00: Fika och mingel\n10:00 – 12:00: Årsmöte\nPå årsmötet kommer medlemmarna bland annat att ta beslut om uppdaterade standarder för Svensk Miljöbas och Svensk Kvalitetsbas.\n12.00-13.00: Gemensam lunch\n13:00 – 15.15 Omvärldsbevakning\n15:15 – 16:30: Framtidsspaningar för SUSA\n16:30 – 17:00: Summering och frågor
URL:https://susa.nu/event/arsmote-och-medlemsmote-den-27-mars/
ATTACH;FMTTYPE=image/png:https://susa.nu/wp-content/uploads/2025/03/SUSA-KML.png
ORGANIZER;CN="SUSA":MAILTO:annika.johansson@tastegen.se
END:VEVENT
BEGIN:VEVENT
DTSTART;TZID=Europe/Helsinki:20250320T130000
DTEND;TZID=Europe/Helsinki:20250320T160000
DTSTAMP:20260420T130658
CREATED:20240925T122112Z
LAST-MODIFIED:20240925T122129Z
UID:1990-1742475600-1742486400@susa.nu
SUMMARY:Erfarenhetsutbyte/utbildning redan godkända revisorer - Systematiskt hållbarhetsarbete\, Tema: Värdekedja\, hållbarhetsaspekter – sätt rätt fokus.
DESCRIPTION:Erfarenhetsutbyte och vidareutbildning\, för redan godkända revisorer i SUSA:s standard för systematiskt hållbarhetsarbete \nTema: Värdekedja\, hållbarhetsaspekter – sätt rätt fokus. \n20 mars kl. 13.00-16.00 \nAnmäl er till: annika.johansson(a)tastegen.se
URL:https://susa.nu/event/erfarenhetsutbyte-utbildning-redan-godkanda-revisorer-systematiskt-hallbarhetsarbete-tema-vardekedja-hallbarhetsaspekter-satt-ratt-fokus/
LOCATION:Digitalt
CATEGORIES:Revisorer
END:VEVENT
BEGIN:VEVENT
DTSTART;TZID=Europe/Helsinki:20250213T130000
DTEND;TZID=Europe/Helsinki:20250213T160000
DTSTAMP:20260420T130658
CREATED:20240925T121646Z
LAST-MODIFIED:20240925T122155Z
UID:1988-1739451600-1739462400@susa.nu
SUMMARY:Erfarenhetsutbyte/utbildning för redan godkända revisorer - Miljöbas och Kvalitetsbas\, Tema: Röda tråden – rätt fokus genom hela systemet
DESCRIPTION:Erfarenhetsutbyte och vidareutbildning\, för redan godkända revisorer i Svensk Miljöbas och Svensk Kvalitetsbas kravstandarder. \nTema: Röda tråden – rätt fokus genom hela systemet13. februari kl. 13.00-16.00 \nAnmäl er till: karin.hanses(a)sustema.se
URL:https://susa.nu/event/erfarenhetsutbyte-for-redan-godkanda-revisorer-miljobas-och-kvalitetsbas-tema-roda-traden-ratt-fokus-genom-hela-systemet/
LOCATION:Digitalt
CATEGORIES:Revisorer
END:VEVENT
BEGIN:VEVENT
DTSTART;TZID=Europe/Helsinki:20250120T130000
DTEND;TZID=Europe/Helsinki:20250120T160000
DTSTAMP:20260420T130658
CREATED:20240809T075836Z
LAST-MODIFIED:20240919T111630Z
UID:1958-1737378000-1737388800@susa.nu
SUMMARY:Erfarenhetsutbyte/utbildning för revisorer - Hållbarhetsanpassat event
DESCRIPTION:Välkommen på erfarenhetsutbyte och utbildning i hållbarhetsanpassat event för nya och gamla revisorer. Utbildningen sker digitalt via Teams. \nInnehåll: \n\nBakgrund​ och nyheter\nOm eventmetoden​\nTips och trix för dig som revisor​\nVerktyget​\nErfarenhetsutbyte\n\nAnmälan via E-post: annika.johansson@tastegen.se
URL:https://susa.nu/event/erfarenhetsutbyte-utbildning-for-revisorer-hallbarhetsanpassat-event/
LOCATION:Digitalt
ORGANIZER;CN="SUSA":MAILTO:annika.johansson@tastegen.se
END:VEVENT
BEGIN:VEVENT
DTSTART;TZID=Europe/Helsinki:20241218T080000
DTEND;TZID=Europe/Helsinki:20241218T090000
DTSTAMP:20260420T130658
CREATED:20241107T064311Z
LAST-MODIFIED:20241107T064345Z
UID:2041-1734508800-1734512400@susa.nu
SUMMARY:Webbinar: SUSA:s standard för systematiskt hållbarhetsarbete
DESCRIPTION:SUSA bjuder in till webbbinar om Standarden för systematiskt hållbarhetsarbete den 18 december kl. 8.00-9.00! \nInnehåll:\n– Om SUSA\n– Standard för systematiskt hållbarhetsarbete\n– Revisorer och utfärdare\n– Kvalitetsarbete och hållbarhetsarbete\, en bra kombination \nAnmäl er till: annika.johansson(a)tastegen.se
URL:https://susa.nu/event/webbinar-susas-standard-for-systematiskt-hallbarhetsarbete/
LOCATION:Digitalt
CATEGORIES:Webbinar
ATTACH;FMTTYPE=image/png:https://susa.nu/wp-content/uploads/2024/11/SUSA-Webbinar-den-18-december-24.png
END:VEVENT
BEGIN:VEVENT
DTSTART;TZID=Europe/Helsinki:20241121T090000
DTEND;TZID=Europe/Helsinki:20241121T120000
DTSTAMP:20260420T130658
CREATED:20240514T063959Z
LAST-MODIFIED:20240520T131154Z
UID:1880-1732179600-1732190400@susa.nu
SUMMARY:Erfarenhetsutbyte och vidareutbildning för redan godkända revisorer
DESCRIPTION:Erfarenhetsutbyte och vidareutbildning\, för redan godkända revisorer:\n21 november 2024 kl. 13.00-16.00 -digitalt \nAnmäl er till: annika.johansson(a)tastegen.se
URL:https://susa.nu/event/erfarenhetsutbyte-och-vidareutbildning-for-redan-godkanda-revisorer-5/
LOCATION:Digitalt
ORGANIZER;CN="SUSA":MAILTO:annika.johansson@tastegen.se
END:VEVENT
BEGIN:VEVENT
DTSTART;TZID=Europe/Helsinki:20241114T100000
DTEND;TZID=Europe/Helsinki:20241114T170000
DTSTAMP:20260420T130658
CREATED:20240809T075239Z
LAST-MODIFIED:20240809T075239Z
UID:1956-1731578400-1731603600@susa.nu
SUMMARY:Erfarenhetsutbyte/ utbildning för nya revisorer - Svensk Miljöbas och Svensk Kvalitetsbas
DESCRIPTION:Utbildningen riktar sig till dig som:\n\nvill bli godkänd revisor enligt Svensk Miljöbas och/eller Svensk Kvalitetsbas kravstandarder\n\nUtbildningen sker gemensamt för nya revisorer i någon av standarderna\, gruppen delas upp när specifika frågor gällande respektive standard är aktuell. \nInnehåll: \n\nFörväntningar på dagen\nBakgrund\nRevisorernas erfarenheter\nRoller och ansvar\nAtt revidera för Svensk Miljöbas & Svensk Kvalitetsbas\n– revisorns roll\n– tolkning av kraven och workshop\nUtvärdering\n\nPris: Länk till sida för revisorer \nAnmälan och avanmälan senast 10 dagar innan utbildningsstart. \nE-post: hanna.norrman@seeu.se \nPlats: Göteborg
URL:https://susa.nu/event/erfarenhetsutbyte-utbildning-for-nya-revisorer-svensk-miljobas-och-svensk-kvalitetsbas/
END:VEVENT
BEGIN:VEVENT
DTSTART;TZID=Europe/Helsinki:20241107T080000
DTEND;TZID=Europe/Helsinki:20241108T150000
DTSTAMP:20260420T130658
CREATED:20240814T150620Z
LAST-MODIFIED:20240814T150917Z
UID:1965-1730966400-1731078000@susa.nu
SUMMARY:Medlemsträff och fortbildning 7 och 8 november
DESCRIPTION:I höst har vi bokat in två dagar i Stockholm för fortbildning och medlemsträff. Dagarna riktar sig till föreningens medlemmar. \n7 november:\n8.00-17.30: Kvalitetsmagasinet Live\, fortbildning för SUSA:s medlemmar\nLäs om innehåll via denna länk\nPlats: 7A Odenplan i Stockholm. Två personer per medlem.\n \n19.00\nMiddag på Zinkadus\, Zinkensdamms hotell och vandrarhem\, Hornstull i Stockholm\n \nÖvernattning:\nZinkensdamms hotell och vandrarhem\n \n8 november\n8.00-15.00: Medlemsträff\nProgrampunkterna är inte spikade ännu\, men vi har bland annat tänkt följande: \n\nSUSA\, vad kan vi göra tillsammans\nHållbara leveranskedjor och upphandling\nVärdekedja och hållbarhetsaspekter\nUtveckling av SMB:s och SKB:s standarder\n\nPlats: Zinkensdamms hotell och vandrarhem\n \nSista anmälnings- och avanmälningsdag: \nAnmälan\, så snart som möjligt och senast den 23 september. \nNi behöver anmäla er via två länkar\, en som vi i SUSA har för att ordna med alla bestyr kring medlemsträffen och en som går direkt till Kvalitetsmagasinet Lives anmälning. \nLänk till SUSA:s anmälningsformulär \nLänk till Kvalitetsmagasinet Live
URL:https://susa.nu/event/medlemstraff-och-fortbildning-7-och-8-november/
CATEGORIES:Medlemsträffar
ORGANIZER;CN="SUSA":MAILTO:annika.johansson@tastegen.se
END:VEVENT
BEGIN:VEVENT
DTSTART;TZID=Europe/Helsinki:20241022T130000
DTEND;TZID=Europe/Helsinki:20241023T170000
DTSTAMP:20260420T130658
CREATED:20240205T110823Z
LAST-MODIFIED:20241004T075318Z
UID:1771-1729602000-1729702800@susa.nu
SUMMARY:Revisorsutbildning - Standard för systematiskt hållbarhetsarbete - ombokad till 8-9 april 2025
DESCRIPTION:Utbildningen riktar sig till dig som:\n\nvill bli godkänd revisor enligt SUSA:s standard för systematiskt hållbarhetsarbete\n\nUtbildningen är 1\,5 dagar\, där dag 1 sker via Teams och dag 2 sker live på plats. \nInnehåll: \n\nFörväntningar på utbildningen\nBakgrund\nRevisorernas erfarenheter\nRoller och ansvar\nHållbar utveckling – och de tre perspektiven i verksamheter\nAtt revidera för Systematiskt hållbarhetsarbete\n– revisorns roll\n– tolkning av kraven och workshop\nUtvärdering\n\nPris: Länk till sida för revisorer \nAnmälan och avanmälan senast 10 dagar innan utbildningsstart. \nE-post: annika.johansson(a)tastegen.se
URL:https://susa.nu/event/revisorsutbildning-standard-for-systematiskt-hallbarhetsarbete-3/
LOCATION:Stockholm
ORGANIZER;CN="SUSA":MAILTO:annika.johansson@tastegen.se
END:VEVENT
BEGIN:VEVENT
DTSTART;TZID=Europe/Helsinki:20240524T130000
DTEND;TZID=Europe/Helsinki:20240524T160000
DTSTAMP:20260420T130658
CREATED:20240110T132340Z
LAST-MODIFIED:20240110T132340Z
UID:1735-1716555600-1716566400@susa.nu
SUMMARY:Erfarenhetsutbyte och vidareutbildning för redan godkända revisorer
DESCRIPTION:Erfarenhetsutbyte och vidareutbildning\, för redan godkända revisorer:\n24 maj 2024 kl. 13.00-16.00 -digitalt \nAnmäl er till: ida.olofsson(a)ramboll.se
URL:https://susa.nu/event/erfarenhetsutbyte-och-vidareutbildning-for-redan-godkanda-revisorer-4/
LOCATION:Digitalt
ORGANIZER;CN="SUSA":MAILTO:annika.johansson@tastegen.se
END:VEVENT
BEGIN:VEVENT
DTSTART;TZID=Europe/Helsinki:20240515T090000
DTEND;TZID=Europe/Helsinki:20240515T120000
DTSTAMP:20260420T130658
CREATED:20240110T132726Z
LAST-MODIFIED:20240110T132751Z
UID:1737-1715763600-1715774400@susa.nu
SUMMARY:Utbildning för revisorer för hållbarhetsanpassat event
DESCRIPTION:Erfarenhetsutbytesutbildning för eventrevisorer \nInför att en revisor vill bli revisor enligt eventmetoden går de en erfarenhetsutbytesutbildning i event. Därefter deltar revisorn minst vart annat år i erfarenhetsutbytesträffar med andra revisorer. \nDigitalt via Teams.
URL:https://susa.nu/event/utbildning-for-revisorer-for-hallbarhetsanpassat-event-2/
LOCATION:Digitalt
ORGANIZER;CN="SUSA":MAILTO:annika.johansson@tastegen.se
END:VEVENT
BEGIN:VEVENT
DTSTART;TZID=Europe/Helsinki:20240418T100000
DTEND;TZID=Europe/Helsinki:20240418T170000
DTSTAMP:20260420T130658
CREATED:20230117T160734Z
LAST-MODIFIED:20240208T134804Z
UID:1515-1713434400-1713459600@susa.nu
SUMMARY:Erfarenhetsutbyte/utbildning för nya revisorer i Svensk Miljöbas och Svensk Kvalitetsbas
DESCRIPTION:Utbildningen riktar sig till dig som:\n\nvill bli godkänd revisor enligt Svensk Miljöbas och/eller Svensk Kvalitetsbas kravstandarder\n\nUtbildningen sker gemensamt för nya revisorer i någon av standarderna\, gruppen delas upp när specifika frågor gällande respektive standard är aktuell. \nInnehåll: \n\nFörväntningar på dagen\nBakgrund\nRevisorernas erfarenheter\nRoller och ansvar\nAtt revidera för Svensk Miljöbas & Svensk Kvalitetsbas\n– revisorns roll\n– tolkning av kraven och workshop\nUtvärdering\n\nPris: Länk till sida för revisorer \nAnmälan och avanmälan senast 10 dagar innan utbildningsstart. \nE-post: annika.johansson(a)tastegen.se
URL:https://susa.nu/event/erfarenhetsutbyte-utbildning-for-nya-revisorer-i-svensk-miljobas-och-svensk-kvalitetsbas-2/
LOCATION:Stockholm
ORGANIZER;CN="SUSA":MAILTO:annika.johansson@tastegen.se
END:VEVENT
BEGIN:VEVENT
DTSTART;TZID=Europe/Helsinki:20240321T093000
DTEND;TZID=Europe/Helsinki:20240321T163000
DTSTAMP:20260420T130658
CREATED:20231205T123057Z
LAST-MODIFIED:20231205T123337Z
UID:1703-1711013400-1711038600@susa.nu
SUMMARY:Årsmöte med efterföljande medlemsträff
DESCRIPTION:SUSA bjuder in medlemmarna till årsmöte med efterföljande medlemsträff den 21 mars 2024 \n9.30 – Fika med kaffe och smörgås\n10.00- Årsmöte\n12.15 – Lunch\n17.00 – Avslut \nPlats: Stockholm\, Stadshuskällaren
URL:https://susa.nu/event/arsmote-med-efterfoljande-medlemstraff/
LOCATION:Stockholm
CATEGORIES:SUSA
ATTACH;FMTTYPE=image/jpeg:https://susa.nu/wp-content/uploads/2023/05/Arsmote-standard.jpeg
ORGANIZER;CN="SUSA":MAILTO:annika.johansson@tastegen.se
END:VEVENT
BEGIN:VEVENT
DTSTART;TZID=Europe/Helsinki:20240216T090000
DTEND;TZID=Europe/Helsinki:20240216T100000
DTSTAMP:20260420T130658
CREATED:20240213T223552Z
LAST-MODIFIED:20240213T224533Z
UID:1801-1708074000-1708077600@susa.nu
SUMMARY:Webbinar om SUSA:s standard för systematiskt hållbarhetsarbete
DESCRIPTION:SUSA bjuder in till webbbinar om Standarden för systematiskt hållbarhetsarbete den 16 februari kl. 9.00-10.00! \nInnehåll:\n– Om SUSA\n– Standard för systematiskt hållbarhetsarbete\n– Revisorer och utfärdare\n– CRSD och upphandling \nAnmäl er till: annika.johansson(a)tastegen.se
URL:https://susa.nu/event/webbinar-om-susas-standard-for-systematiskt-hallbarhetsarbete/
LOCATION:Digitalt
CATEGORIES:Webbinar
ATTACH;FMTTYPE=image/png:https://susa.nu/wp-content/uploads/2024/02/Wbbinar-den-16-februari-2024.png
ORGANIZER;CN="SUSA":MAILTO:annika.johansson@tastegen.se
END:VEVENT
BEGIN:VEVENT
DTSTART;TZID=Europe/Helsinki:20240205T130000
DTEND;TZID=Europe/Helsinki:20240429T160000
DTSTAMP:20260420T130658
CREATED:20231113T105642Z
LAST-MODIFIED:20231113T105642Z
UID:1692-1707138000-1714406400@susa.nu
SUMMARY:Erfarenhetsutbyte och vidareutbildning för redan godkända revisorer
DESCRIPTION:Erfarenhetsutbyte och vidareutbildning\, för redan godkända revisorer:\n5 februari 2024 kl. 13.00-16.00 -digitalt \nAnmäl er till: annika.johansson(a)tastegen.se
URL:https://susa.nu/event/erfarenhetsutbyte-och-vidareutbildning-for-redan-godkanda-revisorer-2/
LOCATION:Digitalt
ORGANIZER;CN="SUSA":MAILTO:annika.johansson@tastegen.se
END:VEVENT
BEGIN:VEVENT
DTSTART;TZID=Europe/Helsinki:20240125T100000
DTEND;TZID=Europe/Helsinki:20240125T170000
DTSTAMP:20260420T130658
CREATED:20230830T073255Z
LAST-MODIFIED:20231013T110404Z
UID:1658-1706176800-1706202000@susa.nu
SUMMARY:Revisorsutbildning - Standard för systematiskt hållbarhetsarbete
DESCRIPTION:Utbildningen riktar sig till dig som:\n\nvill bli godkänd revisor enligt SUSA:s standard för systematiskt hållbarhetsarbete\n\nInnehåll: \n\nFörväntningar på dagen\nBakgrund\nRevisorernas erfarenheter\nRoller och ansvar\nHållbar utveckling – och de tre perspektiven i verksamheter\nAtt revidera för Systematiskt hållbarhetsarbete\n– revisorns roll\n– tolkning av kraven och workshop\nUtvärdering\n\nPris: Länk till sida för revisorer \nAnmälan och avanmälan senast 10 dagar innan utbildningsstart. \nE-post: annika.johansson(a)tastegen.se
URL:https://susa.nu/event/revisorsutbildning-standard-for-systematiskt-hallbarhetsarbete-2/
LOCATION:Göteborg
ORGANIZER;CN="SUSA":MAILTO:annika.johansson@tastegen.se
END:VEVENT
BEGIN:VEVENT
DTSTART;TZID=Europe/Helsinki:20231220T100000
DTEND;TZID=Europe/Helsinki:20231220T170000
DTSTAMP:20260420T130658
CREATED:20230830T072456Z
LAST-MODIFIED:20231013T110446Z
UID:1656-1703066400-1703091600@susa.nu
SUMMARY:Revisorsutbildning - Standard för systematiskt hållbarhetsarbete
DESCRIPTION:Utbildningen riktar sig till dig som:\n\nvill bli godkänd revisor enligt SUSA:s standard för systematiskt hållbarhetsarbete\n\nInnehåll: \n\nFörväntningar på dagen\nBakgrund\nRevisorernas erfarenheter\nRoller och ansvar\nHållbar utveckling – och de tre perspektiven i verksamheter\nAtt revidera för Systematiskt hållbarhetsarbete\n– revisorns roll\n– tolkning av kraven och workshop\nUtvärdering\n\nPris: Länk till sida för revisorer \nAnmälan och avanmälan senast 10 dagar innan utbildningsstart. \nE-post: annika.johansson(a)tastegen.se
URL:https://susa.nu/event/revisorsutbildning-standard-for-systematiskt-hallbarhetsarbete/
LOCATION:Stockholm
ORGANIZER;CN="SUSA":MAILTO:annika.johansson@tastegen.se
END:VEVENT
BEGIN:VEVENT
DTSTART;TZID=Europe/Helsinki:20231012T130000
DTEND;TZID=Europe/Helsinki:20231012T160000
DTSTAMP:20260420T130658
CREATED:20230117T160540Z
LAST-MODIFIED:20230821T075922Z
UID:1513-1697115600-1697126400@susa.nu
SUMMARY:Erfarenhetsutbyte och vidareutbildning för godkända revisorer
DESCRIPTION:Erfarenhetsutbyte och vidareutbildning\, för redan godkända revisorer:\n12 oktober 2023 kl. 13.00-16.00 -digitalt \nAnmäl er till: annika.johansson(a)tastegen.se
URL:https://susa.nu/event/erfarenhetsutbyte-och-vidareutbildning-for-godkanda-revisorer-3/
LOCATION:Digitalt
ORGANIZER;CN="SUSA":MAILTO:annika.johansson@tastegen.se
END:VEVENT
BEGIN:VEVENT
DTSTART;TZID=Europe/Helsinki:20230922T083000
DTEND;TZID=Europe/Helsinki:20230922T160000
DTSTAMP:20260420T130658
CREATED:20230830T110642Z
LAST-MODIFIED:20230830T110642Z
UID:1669-1695371400-1695398400@susa.nu
SUMMARY:Medlemsträff i september
DESCRIPTION:21 september\nKompetensutveckling inom förändringsledning \n22 september\n\nIntro till dagen\, reflektioner från förändringledningsdagen\, tidplanen vi satt upp gällande granskning av utfärdare\, utbildning av revisorer\nPosition Green presenterar ett upplägg om hur vi kan använda verktyget för systematiskt hållbarhetsarbete\nLedningens engagemang – att leda i förändring\, utmaningar\, hur förankras\nErfarenhetsutbyte om standardens krav organisationens förutsättningar\, hållbarhetsaspekter\, indikatorer\, värdekedja etc\nKommunikation
URL:https://susa.nu/event/medlemstraff-i-september/
LOCATION:Stockholm
ATTACH;FMTTYPE=image/jpeg:https://susa.nu/wp-content/uploads/2023/05/Arsmote-standard.jpeg
ORGANIZER;CN="SUSA":MAILTO:annika.johansson@tastegen.se
END:VEVENT
BEGIN:VEVENT
DTSTART;TZID=Europe/Helsinki:20230524T100000
DTEND;TZID=Europe/Helsinki:20230524T160000
DTSTAMP:20260420T130658
CREATED:20221207T072048Z
LAST-MODIFIED:20230207T073332Z
UID:1491-1684922400-1684944000@susa.nu
SUMMARY:Medlemsmöte den 24 maj
DESCRIPTION:I samband med årsmötet bjuds medlemmarna in till medlemsmöte. \nPlats: Stadshuskällaren\, Stockholm
URL:https://susa.nu/event/medlemsmote-den-24-maj/
LOCATION:Stockholm
ORGANIZER;CN="SUSA":MAILTO:annika.johansson@tastegen.se
END:VEVENT
BEGIN:VEVENT
DTSTART;TZID=Europe/Helsinki:20230524T100000
DTEND;TZID=Europe/Helsinki:20230524T120000
DTSTAMP:20260420T130658
CREATED:20221207T071928Z
LAST-MODIFIED:20230207T073311Z
UID:1489-1684922400-1684929600@susa.nu
SUMMARY:Årsmöte 2023
DESCRIPTION:SUSA bjuder in medlemmarna till årsmöte den 24 maj 2023. \nEfter årsmötet bjuds medlemmarna in till medlemsträff. \nPlats: Stadshuskällaren\, Stockholm
URL:https://susa.nu/event/arsmote-2023/
LOCATION:Stockholm
ORGANIZER;CN="SUSA":MAILTO:annika.johansson@tastegen.se
END:VEVENT
END:VCALENDAR