BEGIN:VCALENDAR
VERSION:2.0
PRODID:-//SUSA - ECPv6.9.0//NONSGML v1.0//EN
CALSCALE:GREGORIAN
METHOD:PUBLISH
X-WR-CALNAME:SUSA
X-ORIGINAL-URL:https://susa.nu
X-WR-CALDESC:Events for SUSA
REFRESH-INTERVAL;VALUE=DURATION:PT1H
X-Robots-Tag:noindex
X-PUBLISHED-TTL:PT1H
BEGIN:VTIMEZONE
TZID:Europe/Helsinki
BEGIN:DAYLIGHT
TZOFFSETFROM:+0200
TZOFFSETTO:+0300
TZNAME:EEST
DTSTART:20220327T010000
END:DAYLIGHT
BEGIN:STANDARD
TZOFFSETFROM:+0300
TZOFFSETTO:+0200
TZNAME:EET
DTSTART:20221030T010000
END:STANDARD
END:VTIMEZONE
BEGIN:VEVENT
DTSTART;TZID=Europe/Helsinki:20221020T100000
DTEND;TZID=Europe/Helsinki:20221020T170000
DTSTAMP:20260423T015545
CREATED:20220309T180933Z
LAST-MODIFIED:20221014T123158Z
UID:646-1666260000-1666285200@susa.nu
SUMMARY:Utbildning i Svensk Miljöbas och Svensk Kvalitetsbas standarder
DESCRIPTION:Utbildningen riktar sig till dig som:\n\nvill bli godkänd revisor enligt Svensk Miljöbas och/eller Svensk Kvalitetsbas kravstandarder\nredan godkända revisorer enligt någon av standarderna.\n\nUtbildningen sker gemensamt för nya revisorer i någon av standarderna\, gruppen delas upp när specifika frågor gällande respektive standard är aktuell. \nInnehåll: \n\nFörväntningar på dagen\nBakgrund\nRevisorernas erfarenheter\nRoller och ansvar\nAtt revidera för Svensk Miljöbas & Svensk Kvalitetsbas\n– revisorns roll\n– tolkning av kraven och workshop\nUtvärdering\n\nPris: Länk till sida för revisorer \nAnmälan och avanmälan senast 10 dagar innan utbildningsstart. \nAnnika Johansson \nE-post: annika.johansson@tastegen.se
URL:https://susa.nu/event/utbildning-i-svensk-miljobas-och-svensk-kvalitetsbas-standarder/
CATEGORIES:Revisorer,SUSA
END:VEVENT
BEGIN:VEVENT
DTSTART;TZID=Europe/Helsinki:20220922T130000
DTEND;TZID=Europe/Helsinki:20220922T160000
DTSTAMP:20260423T015545
CREATED:20220309T182422Z
LAST-MODIFIED:20220811T085015Z
UID:657-1663851600-1663862400@susa.nu
SUMMARY:Erfarenhetsutbyte och vidareutbildning för godkända revisorer
DESCRIPTION:Inplanerade tillfällen för erfarenhetsutbyte och vidareutbildning\, för redan godkända revisorer:\n-22 september kl. 13.00-16.00 \nPlats: Göteborg\, Vädursgatan 6 \nAnmäl er till: annika.johansson@tastegen.se
URL:https://susa.nu/event/erfarenhetsutbyte-och-vidareutbildning-for-godkanda-revisorer-2/
END:VEVENT
BEGIN:VEVENT
DTSTART;TZID=Europe/Helsinki:20220921T100000
DTEND;TZID=Europe/Helsinki:20220921T170000
DTSTAMP:20260423T015545
CREATED:20220310T152434Z
LAST-MODIFIED:20220819T053337Z
UID:810-1663754400-1663779600@susa.nu
SUMMARY:Medlemsmöte i SUSA
DESCRIPTION:Föreningen bjuder in medlemmarna till träff för erfarenhetsutbyte\, framtidsplaner och trevligheter. \n21 september\n• 10.00 – introduktion till dagarna med smörgåsar och kaffe\n• 10.30- 12.30 –Grundläggande hållbarhetsutbildning\, med kopplingar till lagstiftning inom hållbarhet\, som hållbarhetsredovisning\, taxonomi\, due diligence mm\n• 12.30-13.30 – Lunch\n• 13.30 –  Erfarenhetsutbyte och möjligheter att stärka varandra och föreningen\n–  Digitala revisioner\, hur kan vi nyttja dem\n• 15.30 – Fika\n• 16.00 – Utveckla en standard som inkluderar hållbarhet\n• 19.00 – Gemensam middag \n22 september\n• 8.00 – intro till dagen och reflektioner kring gårdagen\n• 8.30 – Fortsätta arbetet – Utveckla en standard som inkluderar hållbarhet\n• 10.00 fika\n• Summering av dagarna\n• 12.00– Avslut
URL:https://susa.nu/event/medlemsmote-i-susa/
CATEGORIES:Medlemsträffar
ORGANIZER;CN="SUSA":MAILTO:annika.johansson@tastegen.se
END:VEVENT
BEGIN:VEVENT
DTSTART;TZID=Europe/Helsinki:20220520T090000
DTEND;TZID=Europe/Helsinki:20220520T120000
DTSTAMP:20260423T015545
CREATED:20220309T182227Z
LAST-MODIFIED:20220309T182256Z
UID:654-1653037200-1653048000@susa.nu
SUMMARY:Erfarenhetsutbyte och vidareutbildning för godkända revisorer
DESCRIPTION:Inplanerade tillfällen för erfarenhetsutbyte och vidareutbildning\, för redan godkända revisorer:\n-20 maj kl. 9.00-12.00 -digitalt
URL:https://susa.nu/event/erfarenhetsutbyte-och-vidareutbildning-for-godkanda-revisorer/
LOCATION:Digitalt
ORGANIZER;CN="SUSA":MAILTO:annika.johansson@tastegen.se
END:VEVENT
BEGIN:VEVENT
DTSTART;TZID=Europe/Helsinki:20220519T130000
DTEND;TZID=Europe/Helsinki:20220519T160000
DTSTAMP:20260423T015545
CREATED:20220309T181639Z
LAST-MODIFIED:20220512T135950Z
UID:650-1652965200-1652976000@susa.nu
SUMMARY:Årsmöte 2022- SUSA
DESCRIPTION:SUSA bjuder in medlemmarna till årsmöte med efterföljande medlemsträff den 19 maj 2022\, kl. 13.00-17.00
URL:https://susa.nu/event/arsmote-susa/
CATEGORIES:Medlemsträffar,SUSA
END:VEVENT
BEGIN:VEVENT
DTSTART;TZID=Europe/Helsinki:20220513T090000
DTEND;TZID=Europe/Helsinki:20220513T120000
DTSTAMP:20260423T015545
CREATED:20220309T182600Z
LAST-MODIFIED:20220309T182657Z
UID:659-1652432400-1652443200@susa.nu
SUMMARY:Erfarenhetsutbyte för revisorer för eventdiplomering
DESCRIPTION:Nästkommande tillfällen med erfarenhetsutbyte för event \n-13 maj kl. 9.00-12.00\, digitalt
URL:https://susa.nu/event/659/
LOCATION:Digitalt
CATEGORIES:Revisorer,SUSA
ORGANIZER;CN="SUSA":MAILTO:annika.johansson@tastegen.se
END:VEVENT
BEGIN:VEVENT
DTSTART;TZID=Europe/Helsinki:20220511T130000
DTEND;TZID=Europe/Helsinki:20220511T160000
DTSTAMP:20260423T015545
CREATED:20221207T071009Z
LAST-MODIFIED:20221207T071433Z
UID:1481-1652274000-1652284800@susa.nu
SUMMARY:Erfarenhetsutbyte och vidareutbildning för redan godkända revisorer
DESCRIPTION:Erfarenhetsutbyte och vidareutbildning\, för redan godkända revisorer:\n11 maj 2023 kl. 13.00-16.00 -digitalt \nAnmäl er till: annika.johansson(a)tastegen.se
URL:https://susa.nu/event/erfarenhetsutbyte-och-vidareutbildning-for-redan-godkanda-revisorer/
LOCATION:Digitalt
ORGANIZER;CN="SUSA":MAILTO:annika.johansson@tastegen.se
END:VEVENT
BEGIN:VEVENT
DTSTART;TZID=Europe/Helsinki:20220429T090000
DTEND;TZID=Europe/Helsinki:20220429T100000
DTSTAMP:20260423T015545
CREATED:20220317T074705Z
LAST-MODIFIED:20220317T074705Z
UID:959-1651222800-1651226400@susa.nu
SUMMARY:Webbinar om SUSA:s eventmetod
DESCRIPTION:Hållbarhetsanpassat event \nSUSA erbjuder ett en digital metod för eventdiplomering-SUSA:s kravstandard för hållbarhetsanpassning av event (1:2022). Den baseras på att kartlägga vilka målområden i Agenda 2030 som eventet har mest koppling till\, utifrån det genomförs konkreta åtgärder för att vara med och bidra till förbättringar inom målområdet. För att garantera en lägstanivå så har SUSA valt ut åtta målområden som det är obligatoriskt att genomföra åtgärder inom. \nAnmäl er till Annika Johansson \nE-post: annika.johansson@tastegen.se
URL:https://susa.nu/event/webbinar-om-susas-eventmetod/
LOCATION:Digitalt
ATTACH;FMTTYPE=image/png:https://susa.nu/wp-content/uploads/2022/03/Agenda-2030-bild.png
ORGANIZER;CN="SUSA":MAILTO:annika.johansson@tastegen.se
END:VEVENT
BEGIN:VEVENT
DTSTART;TZID=Europe/Helsinki:20220427T100000
DTEND;TZID=Europe/Helsinki:20220427T170000
DTSTAMP:20260423T015545
CREATED:20220309T175735Z
LAST-MODIFIED:20220310T142846Z
UID:640-1651053600-1651078800@susa.nu
SUMMARY:Utbildning i Svensk Miljöbas och Svensk Kvalitetsbas kravstandarder
DESCRIPTION:Utbildningen riktar sig till dig som:\n\nvill bli godkänd revisor enligt Svensk Miljöbas och/eller Svensk Kvalitetsbas kravstandarder\nredan godkända revisorer enligt någon av standarderna.\n\nUtbildningen sker gemensamt för nya revisorer i någon av standarderna\, gruppen delas upp när specifika frågor gällande respektive standard är aktuell. \nInnehåll: \n\nFörväntningar på dagen\nBakgrund\nRevisorernas erfarenheter\nRoller och ansvar\nAtt revidera för Svensk Miljöbas & Svensk Kvalitetsbas\n– revisorns roll\n– tolkning av kraven och workshop\nUtvärdering\n\nPris: Länk till sida för revisorer \nAnmäl er senast 10 dagar innan till: \nAnnika Johansson \nE-post: annika.johansson@tastegen.se
URL:https://susa.nu/event/utbildning-i-svensk-miljobas-och-svensk-kvalitetsbas-kravstandarder/
LOCATION:Digitalt
CATEGORIES:SUSA
ORGANIZER;CN="SUSA":MAILTO:annika.johansson@tastegen.se
END:VEVENT
BEGIN:VEVENT
DTSTART;TZID=Europe/Helsinki:20220425T130000
DTEND;TZID=Europe/Helsinki:20220425T160000
DTSTAMP:20260423T015545
CREATED:20220310T123050Z
LAST-MODIFIED:20220310T123050Z
UID:785-1650891600-1650902400@susa.nu
SUMMARY:Styrelsemöte i SUSA
DESCRIPTION:
URL:https://susa.nu/event/styrelsemote-i-susa-2/
LOCATION:Digitalt
ORGANIZER;CN="SUSA":MAILTO:annika.johansson@tastegen.se
END:VEVENT
BEGIN:VEVENT
DTSTART;TZID=Europe/Helsinki:20220413T100000
DTEND;TZID=Europe/Helsinki:20220413T113000
DTSTAMP:20260423T015545
CREATED:20220314T114641Z
LAST-MODIFIED:20220314T114641Z
UID:935-1649844000-1649849400@susa.nu
SUMMARY:Utbildning i Position Green för utfärdare
DESCRIPTION:SUSA bjuder in till utbildning i verktyget Position Green\, så att ni själva kan lägga upp nya verksamheter som ska publiceras på hemsidan. \n13 april kl. 10.00-11.30. \nAnmäl er till Annika Johansson
URL:https://susa.nu/event/utbildning-i-position-green-for-utfardare-2/
LOCATION:Digitalt
ORGANIZER;CN="SUSA":MAILTO:annika.johansson@tastegen.se
END:VEVENT
BEGIN:VEVENT
DTSTART;TZID=Europe/Helsinki:20220401T130000
DTEND;TZID=Europe/Helsinki:20220401T143000
DTSTAMP:20260423T015545
CREATED:20220314T114147Z
LAST-MODIFIED:20220314T114709Z
UID:933-1648818000-1648823400@susa.nu
SUMMARY:Utbildning i Position Green för utfärdare
DESCRIPTION:SUSA bjuder in till utbildning i verktyget Position Green\, så att ni själva kan lägga upp nya verksamheter som ska publiceras på hemsidan. \n1 april kl. 13.00-14.30 \nAnmäl er till Annika Johansson
URL:https://susa.nu/event/utbildning-i-position-green-for-utfardare/
LOCATION:Digitalt
ORGANIZER;CN="SUSA":MAILTO:annika.johansson@tastegen.se
END:VEVENT
BEGIN:VEVENT
DTSTART;TZID=Europe/Helsinki:20220328T130000
DTEND;TZID=Europe/Helsinki:20220328T160000
DTSTAMP:20260423T015545
CREATED:20220310T122952Z
LAST-MODIFIED:20220310T122952Z
UID:783-1648472400-1648483200@susa.nu
SUMMARY:Styrelsemöte i SUSA
DESCRIPTION:
URL:https://susa.nu/event/styrelsemote-i-susa/
LOCATION:Digitalt
ORGANIZER;CN="SUSA":MAILTO:annika.johansson@tastegen.se
END:VEVENT
END:VCALENDAR