BEGIN:VCALENDAR
VERSION:2.0
PRODID:-//SUSA - ECPv6.9.0//NONSGML v1.0//EN
CALSCALE:GREGORIAN
METHOD:PUBLISH
X-WR-CALNAME:SUSA
X-ORIGINAL-URL:https://susa.nu
X-WR-CALDESC:Events for SUSA
REFRESH-INTERVAL;VALUE=DURATION:PT1H
X-Robots-Tag:noindex
X-PUBLISHED-TTL:PT1H
BEGIN:VTIMEZONE
TZID:Europe/Helsinki
BEGIN:DAYLIGHT
TZOFFSETFROM:+0200
TZOFFSETTO:+0300
TZNAME:EEST
DTSTART:20220327T010000
END:DAYLIGHT
BEGIN:STANDARD
TZOFFSETFROM:+0300
TZOFFSETTO:+0200
TZNAME:EET
DTSTART:20221030T010000
END:STANDARD
END:VTIMEZONE
BEGIN:VEVENT
DTSTART;TZID=Europe/Helsinki:20220401T130000
DTEND;TZID=Europe/Helsinki:20220401T143000
DTSTAMP:20260423T081251
CREATED:20220314T114147Z
LAST-MODIFIED:20220314T114709Z
UID:933-1648818000-1648823400@susa.nu
SUMMARY:Utbildning i Position Green för utfärdare
DESCRIPTION:SUSA bjuder in till utbildning i verktyget Position Green\, så att ni själva kan lägga upp nya verksamheter som ska publiceras på hemsidan. \n1 april kl. 13.00-14.30 \nAnmäl er till Annika Johansson
URL:https://susa.nu/event/utbildning-i-position-green-for-utfardare/
LOCATION:Digitalt
ORGANIZER;CN="SUSA":MAILTO:annika.johansson@tastegen.se
END:VEVENT
BEGIN:VEVENT
DTSTART;TZID=Europe/Helsinki:20220328T130000
DTEND;TZID=Europe/Helsinki:20220328T160000
DTSTAMP:20260423T081251
CREATED:20220310T122952Z
LAST-MODIFIED:20220310T122952Z
UID:783-1648472400-1648483200@susa.nu
SUMMARY:Styrelsemöte i SUSA
DESCRIPTION:
URL:https://susa.nu/event/styrelsemote-i-susa/
LOCATION:Digitalt
ORGANIZER;CN="SUSA":MAILTO:annika.johansson@tastegen.se
END:VEVENT
END:VCALENDAR